BEGIN:VCALENDAR
VERSION:2.0
CALSCALE:GREGORIAN
PRODID:-//MyApp//Calendar 1.0//EN
BEGIN:VEVENT
METHOD:PUBLISH
UID:12810@regionalniportaly.cz
DTSTAMP:20260420T183538Z
DTSTART;VALUE=DATE:20171023
DTEND;VALUE=DATE:20171024
SUMMARY:Šansony CHantal Poullain
DESCRIPTION:Koncert u příležitosti slavnostního večera ke vzniku ČSR a udělení cen města významným osobnostem veřejného života.\nKoná se v:\nFoyer divadla Pasáž\nKoná se dne:\n23.10.2017	 	\nČas představení:\nod 19:00
LOCATION:Třebíč
END:VEVENT
END:VCALENDAR