BEGIN:VCALENDAR
VERSION:2.0
CALSCALE:GREGORIAN
PRODID:-//MyApp//Calendar 1.0//EN
BEGIN:VEVENT
METHOD:PUBLISH
UID:16851@regionalniportaly.cz
DTSTAMP:20260424T155419Z
DTSTART;VALUE=DATE:20180916
DTEND;VALUE=DATE:20180917
SUMMARY:Tiskař Vojtěch Preissig - prvorepubliková tiskárna
DESCRIPTION:dospělí: 90 Kč\, děti\, senioři: 60 Kč\, rodinné vstupné: 240 Kč \n\nZačátky komentovaných interaktivních prohlídek tiskárny jsou ve 13\, 14\, 15 a 16 hodin.\n\nDoporučujeme rezervaci předem\, jedna návštěvnická skupina je omezena počtem 25 osob.\n\nRezervace: tel. 568 620 319\, e-mail: namest@npu.cz
LOCATION:Náměšť nad Oslavou
END:VEVENT
END:VCALENDAR