BEGIN:VCALENDAR
VERSION:2.0
CALSCALE:GREGORIAN
PRODID:-//MyApp//Calendar 1.0//EN
BEGIN:VEVENT
METHOD:PUBLISH
UID:18199@regionalniportaly.cz
DTSTAMP:20260424T134526Z
DTSTART;VALUE=DATE:20181208
DTEND;VALUE=DATE:20181209
SUMMARY:Vánoce v konírnách
DESCRIPTION:5. – 8. 12. 2018\n\nKvětinářství Václava Trojanová ve spolupráci s MKS Beseda si vás dovoluje pozvat na prodejní výstavu vánočních dekorací. Otevřeno v pracovních dnech od 9 do 18 hodin a v sobotu od 9 do 12 hodin. Každý den doprovodný program.
LOCATION:Moravské Budějovice
END:VEVENT
END:VCALENDAR