BEGIN:VCALENDAR
VERSION:2.0
CALSCALE:GREGORIAN
PRODID:-//MyApp//Calendar 1.0//EN
BEGIN:VEVENT
METHOD:PUBLISH
UID:32731@regionalniportaly.cz
DTSTAMP:20260421T134654Z
DTSTART;VALUE=DATE:20230504
DTEND;VALUE=DATE:20230505
SUMMARY:Teď mě zabij
DESCRIPTION:19.00 – Divadlo Pasáž                  Představení ab. sk. A\n/původní termín 25. 2. 2020 – platí abonentní legitimace jaro 2020/\nMĚSTSKÉ DIVADLO MLADÁ BOLESLAV\nBrad Fraser: TEĎ MĚ ZABIJ\nHrají: Roman Teprt\, Milan Ligač\, Malvína Pachlová\, Jan Hofman\, Lucie Matoušková\nRežie: Petr Mikeska\nPříběh jedné rodiny\, která žila šťastně až do osudového okamžiku. Ten zamíchá kartami a navždy změní životy. Nehody se totiž stávají a musíme jim čelit\, ať chceme nebo ne. To důležité je ale nikdy neztratit naději. Příběh\, kde stačí moc málo\, aby to byl příběh kohokoliv z nás. Milan Ligač byl nominován v kategorie Nejlepší mužský herecký výkon v anketě www.i-divadlo.cz.\nVstupné: 320\,-  360\,-\nPředprodej od 6. 4. 2023
LOCATION:Třebíč
END:VEVENT
END:VCALENDAR