BEGIN:VCALENDAR
VERSION:2.0
CALSCALE:GREGORIAN
PRODID:-//MyApp//Calendar 1.0//EN
BEGIN:VEVENT
METHOD:PUBLISH
UID:32735@regionalniportaly.cz
DTSTAMP:20260421T164507Z
DTSTART;VALUE=DATE:20230515
DTEND;VALUE=DATE:20230516
SUMMARY:Luboš Pospíšil & 5P
DESCRIPTION:19.00 – Národní dům                       IV. koncert HS\nLUBOŠ POSPÍŠIL &amp\; 5P\nMatador české hudební scény s hlasem\, který si nespletete prožívá jedno z nejšťastnějších období své více než čtyřicetileté kariéry\, kterou akcentuje nová deska Poesis Beat (2021). Po turné k zásadnímu albu Soukromá elegie (získalo zlatou desku!) a po retrospektivní šňůře Route 66 k supraphonskému 13CD kompletu vstoupil Luboš do Beatové síně slávy… a teď sklízí všechny ty plody a ocenění v sálech od Šumavy po Ostravu\, stále častěji vyprodaných. "V předvečer" sedmdesátin si v říjnu 2019 nadělil své první živé album s názvem Ostrava !!! Live. Aktuální šňůra nabízí průřez celou protagonistovou kariérou - publikum se dočká osvědčených songů ze zlaté éry (Tenhle vítr jsem měl rád\, Soukromá cesta do nikam)\, ale i novodobých hitovek (Tak vznikla zem\, Tak navštiv bar...) a písniček z novinky Poesis Beat.\nPospíšilův tenor za bicími jistí bubeník Jakub Nývlt\, elektrickou kytaru krotí Mirek Linhart\, klávesy kapelníka Ondřeje Fencla tmelí spodek\, rytmiku dotváří baskytarista Jakub Červinka\, na perkuse dobarvuje a zpívá Michal Hnátek.\nVstupné  300\,-  310\,-   320\,-\nPředprodej od 17. 4. 2023\n 
LOCATION:Třebíč
END:VEVENT
END:VCALENDAR