BEGIN:VCALENDAR
VERSION:2.0
CALSCALE:GREGORIAN
PRODID:-//MyApp//Calendar 1.0//EN
BEGIN:VEVENT
METHOD:PUBLISH
UID:33020@regionalniportaly.cz
DTSTAMP:20260421T152202Z
DTSTART;VALUE=DATE:20230617
DTEND;VALUE=DATE:20230618
SUMMARY:8. Charitativní běh HAPPY RUN
DESCRIPTION:8. ročník charitativního běhu Happy run se bude konat ve Valči u Třebíče dne 17. 6. 2023. Tentokrát bude výtěžek bude patřit malému Milánkovi z Brna\, kterému byla diagnostikována SMA - spinální svalová atrofie druhého typu.\nPro účastníky jsou připraveny trasy 6 km\, 12 km a také dětská závodní trasa 1\,5 km. Pro pěší je pak připravena rodinná trasa\, která je shodná s dětskou závodní trasou. Registrovat se můžete do 11. 6. 2022 a na místě je možná pouze registrace na rodinnou nezávodní trasu. V letošním ročníku omezujeme počet běžců na 500\, proto s registrací neotálejte.
LOCATION:Valeč
END:VEVENT
END:VCALENDAR