BEGIN:VCALENDAR
VERSION:2.0
CALSCALE:GREGORIAN
PRODID:-//MyApp//Calendar 1.0//EN
BEGIN:VEVENT
METHOD:PUBLISH
UID:33110@regionalniportaly.cz
DTSTAMP:20260421T164333Z
DTSTART;VALUE=DATE:20230603
DTEND;VALUE=DATE:20230604
SUMMARY:Tajemné pouštní království Saúdská Arábie
DESCRIPTION:Martin Půlpán alias Lost Czech Man (lostczechman.com) tvrdí\, že cestování musí být nepohodlné a musí bolet\, aby si člověk zapamatoval všechna místa a události\, které ho potkaly. V poušti Arabského poloostrova jistě mnoho pohodlí nezažil\, zato událostí ano.Neváhejte\, akce má omezený počet vstupenek v předprodeji!&nbsp\;Polovina kapacity je rezervována pro návštěvníky&nbsp\;třebíčského festivalu Zámostí (2.-3. 6. 2023)\, kteří&nbsp\;mají vstup zdarma v rámci zakoupené vstupenky.
LOCATION:Třebíč
END:VEVENT
END:VCALENDAR