BEGIN:VCALENDAR
VERSION:2.0
CALSCALE:GREGORIAN
PRODID:-//MyApp//Calendar 1.0//EN
BEGIN:VEVENT
METHOD:PUBLISH
UID:35093@regionalniportaly.cz
DTSTAMP:20260421T151441Z
DTSTART;VALUE=DATE:20230925
DTEND;VALUE=DATE:20230926
SUMMARY:Zvučící zeměpis
DESCRIPTION:Netradiční hudební cesta barokní Evropou „Zvučící zeměpis” - suita z děl G.P. Telemanna z tanců všech národů.&nbsp\;PROGRAM: G. P. Telemann: Klingende geographie\, orchestrální suita in B&nbsp\;ÚČINKUJÍ:Czech Ensemble Baroque orchestra &amp\;&nbsp\;Czech Ensemble Baroque Quintet&nbsp\;DIRIGENT: Roman Válek
LOCATION:Třebíč
END:VEVENT
END:VCALENDAR