BEGIN:VCALENDAR
VERSION:2.0
CALSCALE:GREGORIAN
PRODID:-//MyApp//Calendar 1.0//EN
BEGIN:VEVENT
METHOD:PUBLISH
UID:35673@regionalniportaly.cz
DTSTAMP:20260421T151200Z
DTSTART;VALUE=DATE:20231028
DTEND;VALUE=DATE:20231029
SUMMARY:Vypsaná fixa
DESCRIPTION:
LOCATION:Třebíč
END:VEVENT
END:VCALENDAR