BEGIN:VCALENDAR
VERSION:2.0
CALSCALE:GREGORIAN
PRODID:-//MyApp//Calendar 1.0//EN
BEGIN:VEVENT
METHOD:PUBLISH
UID:35831@regionalniportaly.cz
DTSTAMP:20260421T174016Z
DTSTART;VALUE=DATE:20231024
DTEND;VALUE=DATE:20231025
SUMMARY:Už tě mám dost
DESCRIPTION:MIMOABONENTNÍ PŘEDSTAVENÍ - SLAVNOSTNÍ VEČER KE VZNIKU ČSRV rámci večera bude uděleno čestné občanství\n SLAVNOSTNÍ VEČER KE VZNIKU ČSRJT PROMOTION PLZEŇRay Cooney\, Earl Barret\, Arne Sultan: UŽ TĚ MÁM DOSTHrají: Martin Kraus / Martin Písařík\, Saša Rašilov\, Lída Rašilovová\, Miloslav Mejzlík\, Milan Peroutka\, Denisa NesvačilováRežie: Antonín Procházka\nMimořádná komedie napsaná v nejlepší tradici britského humoru.\nKrize středního věku po anglicku. Manželství Lindy a George se po sedmnácti letech octlo v krizi. George vyčpělost soužití na rozdíl od Lindy nevnímá\, ale jakmile je přinucen podívat se pravdě do očí\, pokusí se zachránit vztah riskantním krokem. Když mu plán nevyjde\, odejde z domu\, aby dal manželce příležitost „najít samu sebe“. Rozehraje se partie\, v níž nemalou roli sehraje i jeho otec a jejich nejlepší přátelé a nad níž se vznáší otázka\, zda to přece jen ještě nezkusit...Vtipné dialogy a situační gagy jsou samozřejmou předností této mimořádné komedie uváděné s velkým úspěchem po celém světě.\nTři dny před každým divadelním představením poskytujeme studentům 50% slevu.
LOCATION:Třebíč
END:VEVENT
END:VCALENDAR