BEGIN:VCALENDAR
VERSION:2.0
CALSCALE:GREGORIAN
PRODID:-//MyApp//Calendar 1.0//EN
BEGIN:VEVENT
METHOD:PUBLISH
UID:37506@regionalniportaly.cz
DTSTAMP:20260421T210055Z
DTSTART;VALUE=DATE:20240304
DTEND;VALUE=DATE:20240305
SUMMARY:Jakub Smolík s kapelou
DESCRIPTION:Koncert věčného romantika s doprovodnou skupinou opět v našem městě.\nJakub Smolík\, jenž svými písněmi oslňuje zejména něžnou část publika\, těží ze své image\, pěkných skladatelských kousků Z. Bartáka\, F. Kasla nebo J. Zmožka\, ale i nesmírně vytříbeného vkusu pro výběr coververzí starších českých šlágrů\, které mladší část publika dnes zná především díky němu. Koncert nabízí vedle hitů\, jako jsou Jen blázen žárlí\, Prý chlapi nebrečí či Ave Maria\, i některé nové písničky z jeho posledního alba "Právě proto vám teď zpívám" vydané na podzim roku 2020.\n4. 12. 2023
LOCATION:Třebíč
END:VEVENT
END:VCALENDAR