BEGIN:VCALENDAR
VERSION:2.0
CALSCALE:GREGORIAN
PRODID:-//MyApp//Calendar 1.0//EN
BEGIN:VEVENT
METHOD:PUBLISH
UID:37509@regionalniportaly.cz
DTSTAMP:20260421T205344Z
DTSTART;VALUE=DATE:20240415
DTEND;VALUE=DATE:20240416
SUMMARY:The Backwards
DESCRIPTION:Kapela THE BACKWARDS přichází s aktuálním programem THE BEATLES ´66 TOUR\, který mapuje poslední období koncertování The Beatles. Těšit se můžete na působivý výlet do hudební historie\, na nové skladby v repertoáru The Backwards i novou kostýmní a světelnou výpravu. Strhující výlet do hudební minulosti plné nezapomenutelných hitů pro několik generací fanoušků Beatles čeká na všechny návštěvníky koncertů kapely The Backwards.\n1.   12. 2023
LOCATION:Třebíč
END:VEVENT
END:VCALENDAR