BEGIN:VCALENDAR
VERSION:2.0
CALSCALE:GREGORIAN
PRODID:-//MyApp//Calendar 1.0//EN
BEGIN:VEVENT
METHOD:PUBLISH
UID:38245@regionalniportaly.cz
DTSTAMP:20260421T175656Z
DTSTART;VALUE=DATE:20240119
DTEND;VALUE=DATE:20240120
SUMMARY:Pečení a naše tradice / Petra Burianová
DESCRIPTION:Vítězka soutěže Peče celá země už podruhé v naší knihovně. Jak probíhá natáčení oblíbeného pořadu „Pečeme na neděli“? Jaké tradice si zachovali naši krajané v Jižní Americe? Bude nová kuchařka? Odpovědi se dozvíte na místě.
LOCATION:Třebíč
END:VEVENT
END:VCALENDAR