BEGIN:VCALENDAR
VERSION:2.0
CALSCALE:GREGORIAN
PRODID:-//MyApp//Calendar 1.0//EN
BEGIN:VEVENT
METHOD:PUBLISH
UID:39266@regionalniportaly.cz
DTSTAMP:20260421T175735Z
DTSTART;VALUE=DATE:20240325
DTEND;VALUE=DATE:20240326
SUMMARY:4 ROCKEŘI a operní pěvkyně v Třebíči
DESCRIPTION:PROŽIJTE SOUZNĚNÍ ROCKOVÝCH HLASŮ S OPERNÍMZpívají:Jiří ZonygaMilan DevinneLeona ŠenkováJan VytásekMonika SommerováZazní originálně upravené světové a české hity\, převedené z jiných hudebních žánrů&nbsp\;do rockového kabátu.To vše naživo s doprovodem skvělých hudebníků naší populární scény.Omar Khaouaj - sólová kytara\, hudební aranžeJan Alán - basová kytaraDominik Renč - klávesyTomáš Vokurka - bicí4rockeri.cz
LOCATION:Třebíč
END:VEVENT
END:VCALENDAR