BEGIN:VCALENDAR
VERSION:2.0
CALSCALE:GREGORIAN
PRODID:-//MyApp//Calendar 1.0//EN
BEGIN:VEVENT
METHOD:PUBLISH
UID:39892@regionalniportaly.cz
DTSTAMP:20260421T175646Z
DTSTART;VALUE=DATE:20240310
DTEND;VALUE=DATE:20240311
SUMMARY:Obušku z pytle ven
DESCRIPTION:DIVADELNÍ SPOLEČNOST JULIE JURIŠTOVÉ PRAHADana Pražáková: OBUŠKU Z PYTLE VENHrají: Jiří Krejčí / Radovan Snítil\, Julie Jurištová\, Hana Tunová\, Daniel Koťan / Kryštof MaliňákRežie: Dana Pražáková\nKlasická pohádka na motivy na motivy Karla Jaromíra Erbena tentokrát v muzikálovém podání.\nCo svět světem stojí\, někteří lidé touží jen po bezpracném životě\, bohatství a moci. Napravit všechny špatnosti je velká práce i pro kouzelné bytosti. Buďme proto rozvážní a opatrní. Když chudý švec Matěj dostane zázračný ubrousek a beránka snášejícího zlaťáky\, v krčmě už na něj čeká vykutálená dvojička hostinských\, která ho nestydatě okrade. Tentokrát ji však stihne zasloužený výprask. Teprve když je po starostech\, mohou si všichni oddechnout. Příběh plný písniček a komických situací je určen pro dětské diváky od 3 do 10 let i pro dospělé.
LOCATION:Třebíč
END:VEVENT
END:VCALENDAR