BEGIN:VCALENDAR
VERSION:2.0
CALSCALE:GREGORIAN
PRODID:-//MyApp//Calendar 1.0//EN
BEGIN:VEVENT
METHOD:PUBLISH
UID:41218@regionalniportaly.cz
DTSTAMP:20260421T192059Z
DTSTART;VALUE=DATE:20240428
DTEND;VALUE=DATE:20240429
SUMMARY:LiStOVáNí.cz: Než natáhnu brka
DESCRIPTION:Představení z oblíbeného cyklu scénických čtení. \nÚčinkují Alan Novotný a Markéta Lánská. \n \nAby nedošlo k omylu\, tohle není brutální kriminálka\, ani kniha anekdot. Přesto vás čeká detektivní zápletka\, pár mrtvol\, konkurenční boj a plno úvah proč se všechno tak nějak semlelo. Jaakkovi je 37\, když mu lékař oznámí\, že nemá chřipku\, ale umírá na otravu – a nemá už moc času. Když se z ordinace vrátí domů\, přistihne svou ženu\, jak si užívá s mladým\, přitažlivým zaměstnancem jejich společné firmy. Firmy\, kterou začíná ohrožovat nebezpečná konkurence. Jaakko se rozhodne vypátrat toho\, kdo mu usiluje o život. Se smrtí za zády jde všechno rychleji a je potřeba užít si i využít každou minutu.\n \nKomunitní centrum Moravia\, 15:00\, vstupné 120 Kč v předprodeji\, 140 Kč na místě. Do naplnění kapacity sálu.\nPředprodej od 2. dubna 2024 v knihovně a na smsticket.cz.
LOCATION:Třebíč
END:VEVENT
END:VCALENDAR