BEGIN:VCALENDAR
VERSION:2.0
CALSCALE:GREGORIAN
PRODID:-//MyApp//Calendar 1.0//EN
BEGIN:VEVENT
METHOD:PUBLISH
UID:41691@regionalniportaly.cz
DTSTAMP:20260421T221836Z
DTSTART;VALUE=DATE:20240428
DTEND;VALUE=DATE:20240429
SUMMARY:Jarní koncert Virtuosi Trebicenses
DESCRIPTION:Virtuosi Trebicenses je zavedený smyčcový orchestr z Třebíče.&nbsp\;Tímto koncertem zahajuje svoji sedmou sezónu\, ve kterém se můžete těšit nejen na tvorbu pro smyčcový orchestr\, ale i na skvělé sólisty.Program je připraven z děl autorů J. Myslivečka\, E. Elgara\,&nbsp\;P. Glasse a G. Holsta.
LOCATION:Třebíč
END:VEVENT
END:VCALENDAR