BEGIN:VCALENDAR
VERSION:2.0
CALSCALE:GREGORIAN
PRODID:-//MyApp//Calendar 1.0//EN
BEGIN:VEVENT
METHOD:PUBLISH
UID:41833@regionalniportaly.cz
DTSTAMP:20260421T192956Z
DTSTART;VALUE=DATE:20240502
DTEND;VALUE=DATE:20240503
SUMMARY:Gabriela Beňačková aneb Mařenka\, Rusalka a Jenůfa se loučí
DESCRIPTION:Gabriela Beňačková – soprán\, Jakub Pustina – tenor\, Jiří Hrubý – piano\nGabriela Beňačková oslnila publiku poprvé v roce 1970\, kdy debutovala v pražském Národním divadle ještě jako studentka vysoké školy. V průběhu let na nejprestižnějších operních jevištích světa ztvárnila desítky operních rolí\, avšak jejím nejmilovanějším repertoárem zůstala vždy česká hudba. Po více než padesáti letech své aktivní kariéry se nyní rozhodla\, že se se svým milovaným zpěvem rozloučí\, a to rolemi\, které ji provázeli od prvopočátku její kariéry. Posluchači koncertu se mohou těšit na ryze českou hudbu Antonína Dvořáka\, Bedřicha Smetany či Leoše Janáčka. V podání Gabriely Beňačkové naposledy zazní árie a dueta z Prodané nevěsty\, Rusalky a Její pastorkyně.\nGabriela Beňačková svým mistrovstvím ovlivnila několik generací a koncert bude poslední možností slyšet její stříbrný soprán s pověstnou slovanskou slzou v hlase.\nZačátek v 19 hodin\nFoyer divadla Pasáž
LOCATION:Třebíč
END:VEVENT
END:VCALENDAR