BEGIN:VCALENDAR
VERSION:2.0
CALSCALE:GREGORIAN
PRODID:-//MyApp//Calendar 1.0//EN
BEGIN:VEVENT
METHOD:PUBLISH
UID:42429@regionalniportaly.cz
DTSTAMP:20260421T193017Z
DTSTART;VALUE=DATE:20240525
DTEND;VALUE=DATE:20240526
SUMMARY:Retro diskotéka Třebíč - Poslední retro setkání
DESCRIPTION:Náš příběh sedmi retro diskoték je pomalu\, ale jistě u konce. Poslední večer začíná již v sobotu 25. 5. 2024\, od 21:30\n25. 5. 2024\, 21:30–3:30Grand Hotel\, Club Titanic - Karlovo náměstí 133/5\, TřebíčDJ Mirek Šafránek - Hity od 80. let až po současnostFotografkaTaneční vystoupeníRetro drinky\, odznáčky\, dekorace a hlavně skvělá atmosféra!\nVstupenky na místě za 150\,-  Pro všechny se všemi odznáčky z předchozích večerů vstup zdarma.\nSledujte naše facebookové a instagramové stránky pro více informací\, protože tohle je teprve začátek! @znovuveveku
LOCATION:Třebíč
END:VEVENT
END:VCALENDAR