BEGIN:VCALENDAR
VERSION:2.0
CALSCALE:GREGORIAN
PRODID:-//MyApp//Calendar 1.0//EN
BEGIN:VEVENT
METHOD:PUBLISH
UID:43732@regionalniportaly.cz
DTSTAMP:20260421T222746Z
DTSTART;VALUE=DATE:20240726
DTEND;VALUE=DATE:20240727
SUMMARY:DALEŠICE FEST
DESCRIPTION:DALEŠICE FEST - první ročník multižánrového a zároveň nekomerčního festivalu\,&nbsp\;plného KVALITNÍ muziky!Akci otevírá Robert KŘESŤAN&nbsp\;a Trapeři v 18 hod.!Následují kapely:Gort music -&nbsp\;středověká hudba s moderními prvky elektro musicTony Joch a přátelé - talent Country Rádia\, charismatický&nbsp\;muzikant\, folk &amp\;&nbsp\;countrySB Band - brněnská rocková&nbsp\;legenda bratrů SüsserovýchLucy &amp\; HangOver - řízná Americana&nbsp\;s mohutným ženským hlasem\, opepřená starým Fendrem.Místo: Hospoda Stodola\, Dalešice\, okr. TřebíčObčerstvení zajištěno a v případě nečasí bude akce přemístěna do Stodoly.Možnost přespání ve vlastním stanu na přilehlé louce. Psí kámoši mohou taky dorazit\, ale nutno je mít na vodítku.Přijďte načerpat pohodu a radost a podpořit místní kulturu&nbsp\;:).
LOCATION:Dalešice
END:VEVENT
END:VCALENDAR