BEGIN:VCALENDAR
VERSION:2.0
CALSCALE:GREGORIAN
PRODID:-//MyApp//Calendar 1.0//EN
BEGIN:VEVENT
METHOD:PUBLISH
UID:50849@regionalniportaly.cz
DTSTAMP:20260421T192052Z
DTSTART;VALUE=DATE:20250426
DTEND;VALUE=DATE:20250427
SUMMARY:Michal Nesvadba v Třebíči - Michal je pajdulák
DESCRIPTION:Michal se vrací do Třebíče s dalším dětským představením!\nBudeme si spolu hrát a vyprávět o našem tělíčku – od hlavy až k patě a naopak. Nohy dáme na ramena\, budeme si držet palce\, aby nám nespadl kámen ze srdce\, třeba rovnou na nohu!\nPo celou dobu jsou děti v blízkém kontaktu s Michalem\, hrají si s ním a předvádí se! Představení plné překvapení a legrace\, malých a velkých loutek a kostýmů vč. dárků ze samolepicí pásky.
LOCATION:Třebíč
END:VEVENT
END:VCALENDAR