BEGIN:VCALENDAR
VERSION:2.0
CALSCALE:GREGORIAN
PRODID:-//MyApp//Calendar 1.0//EN
BEGIN:VEVENT
METHOD:PUBLISH
UID:51809@regionalniportaly.cz
DTSTAMP:20260421T192212Z
DTSTART;VALUE=DATE:20250426
DTEND;VALUE=DATE:20250427
SUMMARY:Pavel Helan
DESCRIPTION:Jako první v této sezoně náš kostel navštíví zpěvák a kytarista PAVEL HELAN.Těšit se můžete na známe zpěvákovy&nbsp\;písně\, které poprvé zazní v nově opraveném kostele sv. Markéty v Jaroměřicích nad Rokytnu.Předprodej vstupenek zahájen od 9. 3. 2025Kapacita kostela je omezená\, proto neváhejte se zakoupením vstupenky.Nenechte si ujít tento jedinečný zážitek v tak výjimečném prostoru\, jakým je barokní perla Vysočiny!
LOCATION:Jaroměřice nad Rokytnou
END:VEVENT
END:VCALENDAR