BEGIN:VCALENDAR
VERSION:2.0
CALSCALE:GREGORIAN
PRODID:-//MyApp//Calendar 1.0//EN
BEGIN:VEVENT
METHOD:PUBLISH
UID:52586@regionalniportaly.cz
DTSTAMP:20260421T162930Z
DTSTART;VALUE=DATE:20250325
DTEND;VALUE=DATE:20250630
SUMMARY:Baseball Třebíč Nuclears - sezónní permanentka 2025
DESCRIPTION:Přijďte podpořit svůj tým\, zažít nezapomenutelné chvíle a slavit vítězství Nuclears na jejich domácím hřišti. Těšíme se na vás Na Hvězdě.&nbsp\;Co můžete očekávat na našich zápasech?Nejlepší baseball na VysočiněNejmodernější&nbsp\;stadion&nbsp\;na Vysočině.&nbsp\;Super jídlo\,&nbsp\;pití a výborné pivo z&nbsp\;Plzně&nbsp\;
LOCATION:Třebíč
END:VEVENT
END:VCALENDAR