BEGIN:VCALENDAR
VERSION:2.0
CALSCALE:GREGORIAN
PRODID:-//MyApp//Calendar 1.0//EN
BEGIN:VEVENT
METHOD:PUBLISH
UID:53560@regionalniportaly.cz
DTSTAMP:20260421T164630Z
DTSTART;VALUE=DATE:20251231
DTEND;VALUE=DATE:20260101
SUMMARY:Silvestr 2025
DESCRIPTION:SILVESTR 2025 v Hotelu Opera – Jaroměřice nad Rokytnou&nbsp\;31. 12. 2025\, start: 19:00Přijďte s námi oslavit konec roku ve velkém stylu!Hotel Opera vás zve na nezapomenutelný Silvestrovský večer ve znamení Benátské noci – elegance\, masky\, kouzlo a hudba až do rána!Co vás čeká:NEOMEZENÝ VEČERNÍ RAUT plný delikatesPŮLNOČNÍ PŘÍPITEK pro každéhoŽIVÁ HUDBA – skupina DIMENZEStylová hudba pro tanec\, zábavu i romantické chvíle&nbsp\;Atmosféra Benátské noci – klidně vezměte masku!Dress code: Společenské oblečení\, benátská maska vítána!
LOCATION:Jaroměřice nad Rokytnou
END:VEVENT
END:VCALENDAR