BEGIN:VCALENDAR
VERSION:2.0
CALSCALE:GREGORIAN
PRODID:-//MyApp//Calendar 1.0//EN
BEGIN:VEVENT
METHOD:PUBLISH
UID:55150@regionalniportaly.cz
DTSTAMP:20260421T174128Z
DTSTART;VALUE=DATE:20251104
DTEND;VALUE=DATE:20251105
SUMMARY:Katapult Tour 50 let
DESCRIPTION:KATAPULT TOUR 50 let (1975 – 2025)50 let na hudební scéně. Historie jako hrom! Mocná síla rokenrolu vystrčila drápy. Výroční turné je tady.Katapult připravil absolutně totální reprezentační program koncertu\, jehož emoce a energie fanoušky určitě ohromí. Olda Říha si navíc plní přání\, že se vrací jako „pachatel na místo činu“ do míst všude tam\, kde Katapult od roku 1975 začínal. A tohle kritérium Třebíč splňuje.\nKoncert je uspořádaný k sezení !!
LOCATION:Třebíč
END:VEVENT
END:VCALENDAR