BEGIN:VCALENDAR
VERSION:2.0
CALSCALE:GREGORIAN
PRODID:-//MyApp//Calendar 1.0//EN
BEGIN:VEVENT
METHOD:PUBLISH
UID:55151@regionalniportaly.cz
DTSTAMP:20260421T192012Z
DTSTART;VALUE=DATE:20251207
DTEND;VALUE=DATE:20251208
SUMMARY:Lenny & Unique Quartet
DESCRIPTION:TOUR 2025\n Několikanásobná držitelka hudebních cen Anděl zpěvačka LENNY vyráží na mimořádné turné\, na kterém ji doprovodí kromě její kapely i smyčcové kvarteto UNIQUE QUARTET .\nNavazují tak na velmi úspěšný koncert v Obecním domě v Praze\, kde spolu s Unique Orchestra předvedli speciálně upravený repertoár zpěvačky. Pro tuto příležitost vznikla nová aranžmá\, která budou mít možnost slyšet a vidět návštěvníci tohoto turné v různých koutech České republiky. Zazní skladby Lenny\, jak jste je ještě neslyšeli.  Lenny se představí nejen jako úspěšná zpěvačka s originálním hlasem a autorka\, ale také jako klavíristka\, která se v mnoha písních sama na klavír doprovodí.\nZažijte neopakovatelnou předvánočně laděnou atmosféru v krásném prostředí divadel a sálů s programem\, který se již nebude opakovat.
LOCATION:Třebíč
END:VEVENT
END:VCALENDAR