BEGIN:VCALENDAR
VERSION:2.0
CALSCALE:GREGORIAN
PRODID:-//MyApp//Calendar 1.0//EN
BEGIN:VEVENT
METHOD:PUBLISH
UID:56002@regionalniportaly.cz
DTSTAMP:20260421T205227Z
DTSTART;VALUE=DATE:20250919
DTEND;VALUE=DATE:20250920
SUMMARY:LiStOVáNí.cz: Matková patrola (Michaela Janečková)
DESCRIPTION: \nMatková patrola / Všichni ji zkoumají / Matková patrola / V klidu se nenají / Už zase pláč a další vztek / Šílenství je na dotek! / Matková patrola / La la la / Matková\, la la la lá  / Patrola!\nTohle není další chytrý návod na to\, jak být dokonalou matkou. Těch je plný Instagram. V komentářích vám poradí i experti\, kterých jste se neptali.  Tohle je první upřímný “Google překladač” mezi mamamozkem a zbytkem světa. Pokud si lámete hlavu nad tím\, proč máte najednou průšvih jen proto\, že nahlas dýcháte a proč jsou všude okolo nakousané banány\, v této knize najdete odpověď.\nÚčinkují: Daniela Šišková a Jakub Koudela.\n \nMěstská knihovna v Třebíči\, 18:30\,  vstupné 120 Kč v předprodeji\, 150 Kč na místě. Předprodej knihovna a smsticket.cz.
LOCATION:Třebíč
END:VEVENT
END:VCALENDAR