BEGIN:VCALENDAR
VERSION:2.0
CALSCALE:GREGORIAN
PRODID:-//MyApp//Calendar 1.0//EN
BEGIN:VEVENT
METHOD:PUBLISH
UID:56534@regionalniportaly.cz
DTSTAMP:20260421T163433Z
DTSTART;VALUE=DATE:20251114
DTEND;VALUE=DATE:20251115
SUMMARY:Buxtehude: Kantáty
DESCRIPTION:ÚČINKUJE:&nbsp\;SILENTIUM! ensembleCzech Ensemble Baroque OrchestraDagmar Valentová - koncertní mistrTereza Válková - sbormistr&nbsp\;PROGRAM:D. Buxtehude: Erhalt uns\, Herr\, bei deinem Wort (BuxWV27)\, Jesu\, meines Lebens Leben (BuxWV62)\, Befiehl dem Engel\, dass er komm (BuxWV10) a další&nbsp\;Buxtehude byl plodným skladatelem duchovní i světské hudby\, napsal více než 120 duchovních kantát pro kostel sv. Marie v Lübecku\, kde zastával prestižní a skvěle placené místo kapelníka. Díla v našem programu ilustrují Buxtehudeho mistrovské zvládnutí neuvěřitelné stylové rozmanitosti\, která byla pro duchovní kantátu v Německu v 17. století charakteristická.Díla v našem programu ilustrují Buxtehudeho mistrovské zvládnutí neuvěřitelné stylové rozmanitosti\, která byla pro duchovní kantátu v Německu v 17. století charakteristická.&nbsp\;&nbsp\;&nbsp\;&nbsp\;
LOCATION:Třebíč
END:VEVENT
END:VCALENDAR