BEGIN:VCALENDAR
VERSION:2.0
CALSCALE:GREGORIAN
PRODID:-//MyApp//Calendar 1.0//EN
BEGIN:VEVENT
METHOD:PUBLISH
UID:56605@regionalniportaly.cz
DTSTAMP:20260421T221912Z
DTSTART;VALUE=DATE:20250922
DTEND;VALUE=DATE:20250923
SUMMARY:Luboš Pospíšil a Ondřej Fencl
DESCRIPTION:Luboš Pospíšil&nbsp\;s písní Tenhle vítr jsem měl rád byl v roce 2025 zařazen do Beatové síně slávy rádia Beat.Matador české hudební scény&nbsp\;vystoupí za doprovodu klávesisty a kytaristy 5P Ondřeje Fencla v Třebíči na Šmeralově statku 22. 9. 2025.
LOCATION:Třebíč
END:VEVENT
END:VCALENDAR