BEGIN:VCALENDAR
VERSION:2.0
CALSCALE:GREGORIAN
PRODID:-//MyApp//Calendar 1.0//EN
BEGIN:VEVENT
METHOD:PUBLISH
UID:56607@regionalniportaly.cz
DTSTAMP:20260421T163113Z
DTSTART;VALUE=DATE:20251214
DTEND;VALUE=DATE:20251215
SUMMARY:Slávek Klecandr – adventní koncert
DESCRIPTION:Slávek Klecandr je český zpěvák\, písničkář a frontman hudební skupiny Oboroh.Oboroh je folkrocková kapela z Rychnovska ve východních Čechách\, která se za 35 let své existence stala legendou. Skupina má na svém kontě 30 tisíc prodaných\, kritikou velmi dobře přijatých 11 řadových alb\, přes 1100 koncertů nejen v tuzemsku\, ale i na Slovensku\, v Polsku\, Německu\, Holandsku\, Francii\, Švýcarsku\, Irsku a společná vystoupení s Filharmonií Hradec Králové. Léta zkušeností dala Oborohu jistotu a přesvědčivost při koncertním provedení skladeb\, ať už starozákonních žalmů zhudebněných vedoucím kapely Slávkem Klecandrem\, nebo jiných písní\, opatřených většinou jeho filozofujícími texty.Zakládající členové skupiny Slávek Klecandr a Roman Dostál vystupují rovněž jako duo a také samostatně se svými sólovými recitály.V Třebíči na Šmeralově statku se můžete těšit na adventně zabarvený sólový recitál Slávka Klecadra.
LOCATION:Třebíč
END:VEVENT
END:VCALENDAR