BEGIN:VCALENDAR
VERSION:2.0
CALSCALE:GREGORIAN
PRODID:-//MyApp//Calendar 1.0//EN
BEGIN:VEVENT
METHOD:PUBLISH
UID:57204@regionalniportaly.cz
DTSTAMP:20260421T205217Z
DTSTART;VALUE=DATE:20250927
DTEND;VALUE=DATE:20250928
SUMMARY:Závod v orientačním běhu u Plešic
DESCRIPTION:Třebíčský oddíl orientačního běhu zve na závod Ligy Vysočiny v orientačním běhu na krátké trati u Plešic.Nevíš\, co orientační běh obnáší a přece by sis ho chtěl vyzkoušet?\nTak se dostav ve sportovním do 9:45 na prezentaci do centra závodu v Plešicích.\nSeznámíme tě s orientační mapou\, vysvětlíme princip\, půjčíme čip\, případně a můžeš závodit. Jako dospělý začátečník na orientačně jednoduché trati označené P anebo s dětmi na fáborkované trati označené HDR. Do terénu se vyráží v libovolném čase od 10:30 až do startu posledního závodníka dle pokynů startéra na předem určeném místě.\nPřípadně se můžeš přihlásit už předem na e-mailu prihlasky@oobtrebic.cz.\nStartovné pro neregistrované závodníky 100 Kč + půjčení čipu 40 Kč (pro HDR zdarma)
LOCATION:Třebenice
END:VEVENT
END:VCALENDAR