BEGIN:VCALENDAR
VERSION:2.0
CALSCALE:GREGORIAN
PRODID:-//MyApp//Calendar 1.0//EN
BEGIN:VEVENT
METHOD:PUBLISH
UID:57287@regionalniportaly.cz
DTSTAMP:20260421T164651Z
DTSTART;VALUE=DATE:20251115
DTEND;VALUE=DATE:20251116
SUMMARY:Tak to jsme ještě neviděli\, Marie!
DESCRIPTION:
LOCATION:Jaroměřice nad Rokytnou
END:VEVENT
END:VCALENDAR