BEGIN:VCALENDAR
VERSION:2.0
CALSCALE:GREGORIAN
PRODID:-//MyApp//Calendar 1.0//EN
BEGIN:VEVENT
METHOD:PUBLISH
UID:57428@regionalniportaly.cz
DTSTAMP:20260421T205534Z
DTSTART;VALUE=DATE:20250928
DTEND;VALUE=DATE:20250929
SUMMARY:Loupežník Rumcajs
DESCRIPTION:DOCELA VELKÉ DIVADLO LITVÍNOV\nPohádka na motivy slavných knížek Václava Čtvrtka přivádí na scénu oblíbené postavy\, Rumcajse\, Manku\, Starostu Humpála\, Vodníka Volšovečka\, Vílu Andulku\, Knížepána s paní Kněžnou i hubatou Anku a Straku zlodějku. Příběh o tom\, jak se slušný jičínský švec musí vydat do lesa\, protože ho zlý starosta vyžene z města\, jak v lese najde prázdnou loupežnickou jeskyni a s pomocí víly a vodníka se stane loupežníkem\, protože v lese se nedá nic jiného dělat\, a jak nakonec vytrestá nejen zlého starostu\, ale i Knížepána s Kněžnou.
LOCATION:Třebíč
END:VEVENT
END:VCALENDAR