BEGIN:VCALENDAR
VERSION:2.0
CALSCALE:GREGORIAN
PRODID:-//MyApp//Calendar 1.0//EN
BEGIN:VEVENT
METHOD:PUBLISH
UID:57736@regionalniportaly.cz
DTSTAMP:20260421T164232Z
DTSTART;VALUE=DATE:20251117
DTEND;VALUE=DATE:20251118
SUMMARY:Písně pro Sametovou revoluci
DESCRIPTION:Srdečně vás zveme na&nbsp\;koncert v podání úžasné zpěvačky Elin Iris&nbsp\;k příležitosti významu dne 17.listopadu.Společně si připomeneme známé písně Sametové revoluce\, které svým slovem doprovodí místní kněz&nbsp\;Tomáš&nbsp\;Holcner.Přijďte si s námi připomenout oslavu&nbsp\;Dne boje za svobodu a demokracii v tak výjimečném prostoru\, jako je barokní Perla Vysočiny.&nbsp\;Koncert je v návaznosti na pietní setkání na náměstí Míru od 16:00 hodin. Setkání pořádá město Jaroměřice nad Rokytnou.
LOCATION:Jaroměřice nad Rokytnou
END:VEVENT
END:VCALENDAR