BEGIN:VCALENDAR
VERSION:2.0
CALSCALE:GREGORIAN
PRODID:-//MyApp//Calendar 1.0//EN
BEGIN:VEVENT
METHOD:PUBLISH
UID:58818@regionalniportaly.cz
DTSTAMP:20260421T175748Z
DTSTART;VALUE=DATE:20251102
DTEND;VALUE=DATE:20251103
SUMMARY:O šípkové Růžence
DESCRIPTION:DIVADELNÍ SPOLEČNOSTJULIE JURIŠTOVÉ PRAHAO ŠÍPKOVÉ RŮŽENCEHrají: Maří Fotrová / Leontina Hromádková / Hana Vítová\, Julie Jurištová\, Hana Tunová\, Martin Hrubý\, Josef Vaverka. Scénář a režie: Dana Bartůňková\nKlasická pohádka na motivy bratří Grimmů.V jedné zemi za devatero horami a devatero řekami se v království krále Ctirada narodí princezna Růženka. Přizvané sudičky dají Růžence do vínku moudrost\, krásu a štěstí. Ale sudička\, která nebyla pozvána\, vyřkne nad Růženkou zlou kletbu. Podaří se princi Janovi a jeho sluhovi Jakubovi zrušit neblahou věštbu a princeznu Růženku od kletby osvobodit? Vždyť přece láska ta všechno překoná\, láska je silnější než zlo…\nZačátek v 16 hodin\nVstupné 150\,- Kč
LOCATION:Třebíč
END:VEVENT
END:VCALENDAR