BEGIN:VCALENDAR
VERSION:2.0
CALSCALE:GREGORIAN
PRODID:-//MyApp//Calendar 1.0//EN
BEGIN:VEVENT
METHOD:PUBLISH
UID:58819@regionalniportaly.cz
DTSTAMP:20260421T204611Z
DTSTART;VALUE=DATE:20251121
DTEND;VALUE=DATE:20251122
SUMMARY:Třebíčský kotlík
DESCRIPTION:Kamarádi staré řeky a Městské kulturní středisko vás zvou na 9. ročník přehlídky trampské písně.\n Vystoupí kapely:KAMARÁDI SPOJENÝCH TŘEBÍČSKÝCH OSAD (Třebíč)COYOTERA (Třebíč)WEGET (Velké Meziříčí)
LOCATION:Třebíč
END:VEVENT
END:VCALENDAR