BEGIN:VCALENDAR
VERSION:2.0
CALSCALE:GREGORIAN
PRODID:-//MyApp//Calendar 1.0//EN
BEGIN:VEVENT
METHOD:PUBLISH
UID:59307@regionalniportaly.cz
DTSTAMP:20260421T192155Z
DTSTART;VALUE=DATE:20251109
DTEND;VALUE=DATE:20251110
SUMMARY:Podzimní koncert s Virtuosi Trebicenses
DESCRIPTION:V neděli 9.listopadu 2025 od 18:00 h v Kamenném sále zámku Třebíč se na vás budeme těšit.
LOCATION:Třebíč
END:VEVENT
END:VCALENDAR