BEGIN:VCALENDAR
VERSION:2.0
CALSCALE:GREGORIAN
PRODID:-//MyApp//Calendar 1.0//EN
BEGIN:VEVENT
METHOD:PUBLISH
UID:59896@regionalniportaly.cz
DTSTAMP:20260421T204445Z
DTSTART;VALUE=DATE:20251123
DTEND;VALUE=DATE:20251124
SUMMARY:Benefiční koncert skupiny ANTIKVARTET na záchranu opatovských varhan
DESCRIPTION:Srdečně Vás zveme na benefiční koncert\, jehož výtěžek podpoří veřejnou sbírku na opravu opatovských varhan.\n23. listopadu 2025 v 16:00 do kostela sv. Bartoloměje v Opatově zavítá ANTIKVARTET – hudební uskupení\, které ve svém repertoáru spojuje folk\, country\, spirituály\, blues i pop a navazuje na tvorbu Dušana Vančury.\nPřijďte si užít krásný večer plný hudby a dobré vůle.\nVstupenky je možné zakoupit na úřadu městyse Opatov (v úředních hodinách) nebo na tel. čísle 601 200 055.\nÚřední hodiny městyse Opatov:Pondělí: 8:00 - 12:00\, 12:30 - 16:00Středa: 8:00 - 12:00\, 12:30 - 16:00Pátek: 8:00 - 12:00
LOCATION:Opatov
END:VEVENT
END:VCALENDAR