BEGIN:VCALENDAR
VERSION:2.0
CALSCALE:GREGORIAN
PRODID:-//MyApp//Calendar 1.0//EN
BEGIN:VEVENT
METHOD:PUBLISH
UID:59974@regionalniportaly.cz
DTSTAMP:20260424T213200Z
DTSTART;VALUE=DATE:20260620
DTEND;VALUE=DATE:20260621
SUMMARY:Heřmaňák Fest
DESCRIPTION:Heřmaňákfest je menší rockový open air festival\, pořádaný partou dobrovolníků v &nbsp\;samém srdci Vysočiny. Za sebou máme již dva ročníky a na každém z nich se představily čtyři rockové kapely.Přípravy na letošní ročník jsou&nbsp\;již v plném proudu. Představí se vám kapely jako Jacker's\, Černá\, Gate Crasher a Doga.&nbsp\;Festival je určený pro všechny věkové kategorie a příznivce rockové hudby.
LOCATION:Velké Meziříčí
END:VEVENT
END:VCALENDAR