BEGIN:VCALENDAR
VERSION:2.0
CALSCALE:GREGORIAN
PRODID:-//MyApp//Calendar 1.0//EN
BEGIN:VEVENT
METHOD:PUBLISH
UID:59983@regionalniportaly.cz
DTSTAMP:20260421T163454Z
DTSTART;VALUE=DATE:20251112
DTEND;VALUE=DATE:20251113
SUMMARY:The Swamp Trio
DESCRIPTION:STEF ROSEN (Itálie) – zpěv\, kytary\, ROGER C. WADE (UK) – zpěv\, foukací harmonika\, MICHA MAASS (Německo) – bicí\, zpěv\nVezměte jedinečné vokální a kytarové schopnosti bluesového mistra italského původu Stefa Rosena\, přidejte jednoho z předních zpěváků a hráčů na foukací harmoniku na evropské bluesové scéně Rogera C. Wadea a vše podpořte Michou Maasem\, čtyřnásobným vítězem „German Blues Award“ za bicími. To\, co vznikne\, je elektrické blues\, dodávané davu nadšených fanoušků tímto magickým triem se dvěma rovnocennými sólovými zpěváky…
LOCATION:Třebíč
END:VEVENT
END:VCALENDAR