BEGIN:VCALENDAR
VERSION:2.0
CALSCALE:GREGORIAN
PRODID:-//MyApp//Calendar 1.0//EN
BEGIN:VEVENT
METHOD:PUBLISH
UID:60066@regionalniportaly.cz
DTSTAMP:20260421T210147Z
DTSTART;VALUE=DATE:20260120
DTEND;VALUE=DATE:20260121
SUMMARY:Vzpomínky na Marsyas
DESCRIPTION:Pavel Skála a Jaroslav Olin Nejezchleba v komponovaném večeru věnovém vzpomínkám na jejich působení ve folkrockové&nbsp\;kapele&nbsp\;Marsyas.Kytarista&nbsp\;Pavel Skála&nbsp\;a cellista a zpěvák&nbsp\;Jaroslav Olin Nejezchleba&nbsp\;jsou dlouholeté opory mnoha projektů české hudební scény. Poprvé se sešli v na začátku osmdesátých let ve folkrockových Marsyas. A právě na tuhle éru budou společně vzpomínat.
LOCATION:Třebíč
END:VEVENT
END:VCALENDAR