BEGIN:VCALENDAR
VERSION:2.0
CALSCALE:GREGORIAN
PRODID:-//MyApp//Calendar 1.0//EN
BEGIN:VEVENT
METHOD:PUBLISH
UID:60072@regionalniportaly.cz
DTSTAMP:20260421T151241Z
DTSTART;VALUE=DATE:20260316
DTEND;VALUE=DATE:20260317
SUMMARY:Vladimír Merta a Ondřej Fencl
DESCRIPTION:Základní kámen českého písničkářství\, bezmála osmdesátník Vladimír Merta a&nbsp\;téměř dvakrát mladší klavírista a&nbsp\;kytarista Ondřej Fencl se po kapelních dobrodružstvích vracejí zpátky ke komornímu koncertování v&nbsp\;duu.&nbsp\;
LOCATION:Třebíč
END:VEVENT
END:VCALENDAR