BEGIN:VCALENDAR
VERSION:2.0
CALSCALE:GREGORIAN
PRODID:-//MyApp//Calendar 1.0//EN
BEGIN:VEVENT
METHOD:PUBLISH
UID:60073@regionalniportaly.cz
DTSTAMP:20260421T204831Z
DTSTART;VALUE=DATE:20251206
DTEND;VALUE=DATE:20251207
SUMMARY:Vaib 2025 / Do hloubky
DESCRIPTION:POZOR: Sleva pro taneční skupiny!Pokud navštěvujete taneční skupinu\, uveďte ji prosím při nákupu vstupenek. VAIB chce podpořit studenty tanečních skupin ve vzdělávání. Pokud se z vaší skupiny přihlásí 3 a více osob na jakýkoliv workshop\, vrátíme vám v den konání akce na místě část vstupného.&nbsp\;VAIB je tu pro lidi\, kteří chtějí žít v pohybu!Zajímáte se o zdravý životní styl\, ale chtěli byste do svého každodenního pohybu přidat i trochu zábavy\, hudby\, tance?Nebo jste zapálení tanečníci\, kteří&nbsp\;chtějí o své tělo pečovat\, aby to mohli rozjíždět na parketě až do důchodu?VAIB je unikátní událostí&nbsp\;v České republice\, kde se potkávají experti na fyzické i mentální zdraví a profesionální taneční lektoři\, aby vás navedli na správnou cestu.&nbsp\;Co je tedy VAIB?Dva dny plné vzdělávacích&nbsp\;workshopů od špičkových tanečních a&nbsp\;pohybových lektorů. Můžete absolvovat všechny nebo si poskládat svůj vlastní program.&nbsp\;HarmonogramSOBOTA:9:30 otevření prostor KC Moravia10:00 – 12:45&nbsp\;Roman Kunčar - dopolední blok "ENERGY MANAGEMENT a MODERNÍ ODVAHA"12:45 – 13:30 pauza\, možnost občerstvení na místě13:30 – 16:50 Chilli - odpolední blok "TĚLO\, ČAS a SPOLUPRÁCE"&nbsp\;(včetně pauz)17:00&nbsp\;uzavření prostor KC MoraviaNEDĚLE:9:00&nbsp\;otevření prostor KC Moravia9:30 – 12:45&nbsp\;Sandra Šelinger - dopolední blok "DIVNOPOHYBY" (včetně pauz)12:45&nbsp\;– 13:30&nbsp\;pauza\, možnost občerstvení na místě13:30&nbsp\;– 16:45&nbsp\;KateSun - odpolední blok "IdentiTY" (včetně pauz)17:00&nbsp\;uzavření prostor KC Moravia&nbsp\;Kdo vás bude vzdělávat?SOBOTA:Roman Kunčar -&nbsp\;ENERGY MANAGEMENT a MODERNÍ ODVAHATémata\, která mohou být důležitá a aktuální pro mentální zdraví&nbsp\;každého z nás:Jak zvládat plnit své osobní&nbsp\;cíle\, věnovat se svým blízkým a myslet při tom i na své fyzické a duševní zdraví? Správný "energy management" může být řešením.Jak žít odvážný život? Jak důležitá je pro nás odvaha v dnešním světě\, kdy nám zdánlivě žádné nebezpečí nehrozí? Ukazuje se\, že hodně a Roman vám na VAIBu&nbsp\;praktickými cvičeními ukáže\, jak s "moderní odvahou" pracovat.&nbsp\;Katarína „Chilli“ Čillíková - TĚLO\, ČAS a SPOLUPRÁCEChilli&nbsp\;ze Slovenska vás na VAIBu&nbsp\;provede cestou poznání klíčových prvků tance\, kterým se přitom ani zkušení tanečníci nevěnují příliš často:TĚLOČASSPOLUPRÁCEChilli svůj workshop neomezuje na jeden taneční styl\, tak jako to často vidíme na jejím vlastním tanci.Lekce pro tebe bude obohacující\, ať už tě zajímá jakýkoliv taneční styl a nezáleží\, zda jsi začátečník či zkušený tanečník.&nbsp\;NEDĚLE:Sandra Šelinger&nbsp\;- DIVNOPOHYBYSandra&nbsp\;pomáhá lidem žít&nbsp\;kvalitní život v pohybu a bez bolesti. Na VAIB zavítá se svým do hloubky prozkoumaným tématem "DIVNOPOHYBY".V teoretické části vás Sandra seznámí s principy biomechaniky a biotensegrity - tedy jak funguje opora\, pružnost a stabilita vašeho těla. Nečekejte anatomii ze školních učebnic\, ale pochopení\, které vám&nbsp\;dá smysl při každém kroku\, nádechu i pohybu.V praktické části se pak naučíte&nbsp\;jak cítit a zapojit své tělo efektivněji - přirozeně\, bez snahy o správnost.&nbsp\;Kateřina&nbsp\;„KateSun“ Blažek - IdentiTYKateSun&nbsp\;přinese na VAIB velmi osvěžující vítr. Její blok s názvem “IdentiTY” vás seznámí se sebou samými\, jaký máte vztah k tanci\, k hudbě a k samotnému pohybu.KateSun nelze považovat za “obyčejnou” tanečnici. Její znalosti daleko přesahují její oblíbený styl House Dance\, který s ní mají lidé z tanečního světa spojený. Její workshop bude sice mít nádech Housu\, ale přínosný pro vás bude\, bez ohledu na to\, kolik máte s tímto tanečním stylem zkušeností.&nbsp\;Kdo pro vás VAIB&nbsp\;pořádá?Dance Culture TřebíčPořádáme živé události pro tanečníky a širokou veřejnost. Naším hlavním cílem je ukázat\, že tanec je víc\, než jen pohybem do hudby a že na život každého z nás může mít velmi pozitivní vliv.Chceme pomáhat v budování taneční komunity\, která bude mít k tanci zdravý vztah\, který ji může dlouhou dobu naplňovat.&nbsp\;SHRNUTÍ: Co potřebujete vědět?Datum: 6. a 7. prosince 2025 (sobota i neděle)Místo: KC Moravia\, TřebíčVstupenky:&nbsp\;v prodeji zde na portálu smsticketna každý workshop zvlášťEXTRA ZVÝHODNĚNÉ VSTUPNÉ PŘI KOUPI CELÉHO&nbsp\;PROGRAMU&nbsp\;Kde se dostanu k nejaktuálnějším informacím?Sledujte nás na našem instagramu @danceculturetrebic
LOCATION:Třebíč
END:VEVENT
END:VCALENDAR