BEGIN:VCALENDAR
VERSION:2.0
CALSCALE:GREGORIAN
PRODID:-//MyApp//Calendar 1.0//EN
BEGIN:VEVENT
METHOD:PUBLISH
UID:6060@regionalniportaly.cz
DTSTAMP:20260422T013045Z
DTSTART;VALUE=DATE:20160327
DTEND;VALUE=DATE:20160328
SUMMARY:Velikonoční městská věž v Třebíči 25. - 27. 3. 2016
DESCRIPTION:
LOCATION:Třebíč
END:VEVENT
END:VCALENDAR