BEGIN:VCALENDAR
VERSION:2.0
CALSCALE:GREGORIAN
PRODID:-//MyApp//Calendar 1.0//EN
BEGIN:VEVENT
METHOD:PUBLISH
UID:60865@regionalniportaly.cz
DTSTAMP:20260421T162849Z
DTSTART;VALUE=DATE:20251216
DTEND;VALUE=DATE:20251217
SUMMARY:Vojenská hudba Olomouc
DESCRIPTION:Zveme vás na slavnostní vánoční koncert Vojenské hudby Olomouc s názvem FILMOVÉ VÁNOCE :-)\nPod taktovkou zkušených dirigentů mjr. Richarda Czuczora a kpt. Martina Procházky zazní nejkrásnější filmové a muzikálové melodie\, doplněné o vánoční skladby\, které vykouzlí skvělou atmosféru adventního času.\nNa pódiu se představí 46 profesionálních hudebníků Armády České republiky a pěvečtí sólisté nprap. Libor Dlouhý\, Dagmar Křížová a Michaela Hasalová.\nPřijďte si užít večer plný hudby\, emocí a filmové i vánoční magie!
LOCATION:Třebíč
END:VEVENT
END:VCALENDAR