BEGIN:VCALENDAR
VERSION:2.0
CALSCALE:GREGORIAN
PRODID:-//MyApp//Calendar 1.0//EN
BEGIN:VEVENT
METHOD:PUBLISH
UID:60867@regionalniportaly.cz
DTSTAMP:20260421T151329Z
DTSTART;VALUE=DATE:20260119
DTEND;VALUE=DATE:20260120
SUMMARY:Vladimír Hron
DESCRIPTION:Nekorunovaný král českých hudebních imitátorů bilancuje! Ve svém celovečerním programu představí neuvěřitelných šest dekád hudby\, humoru a vzpomínek na známé tváře domácí i světové hudební scény. Prožít první půlku života v minulém a druhou v současném tisíciletí\, znamenalo pro Vladimíra profesní setkání se stovkami písní\, z nichž si vybere a naplní devadesát minut své novinkové show. A nejen to\, představí i střípky z vlastní hudební a textové tvorby. Přijďte si poslechnout hudební kroniku Hronova života v exkluzivním balení…Vše jako onemanshow\, vše zpíváno živě\, v originálních tóninách.
LOCATION:Třebíč
END:VEVENT
END:VCALENDAR