BEGIN:VCALENDAR
VERSION:2.0
CALSCALE:GREGORIAN
PRODID:-//MyApp//Calendar 1.0//EN
BEGIN:VEVENT
METHOD:PUBLISH
UID:60869@regionalniportaly.cz
DTSTAMP:20260421T134608Z
DTSTART;VALUE=DATE:20260203
DTEND;VALUE=DATE:20260204
SUMMARY:Chlapi radši lžou
DESCRIPTION:JT Promotion Plzeň: CHLAPI RADŠI LŽOUHrají: Saša Rašilov\, Patrik Děrgel\, Ivan Lupták\, Markéta Děrgelová\, Lída Rašilovová\, Zuzana Vejvodová / Týna Průchová\, Katrin WeitzenbauerováRežie: Antonín Procházka\nKomedie plná extrémních situací\, nečekaných dějových zvratů i zajímavých rozuzlení. \nPsycholog Simon se chystá oznámit své ženě Olívii\, že ji opouští kvůli mladé Anne Catherine. Jenomže Olívie má už na večer jiné plány - pozve k nim svou kamarádku Aurélii a dva Simonovy svobodné kamarády Sama a Richarda v naději\, že by tak Aurélie\, která je sama a zoufale hledá partnera\, mohla konečně "přijít ke štěstí". Mezitím ale Anne Catherine ztratí nervy\, a když se jí Simon ten večer neozývá\, rozhodne se vzít věci do svých rukou a objeví se u Simona doma. Před všemi oznámí\, že je v šestém měsíci\, a že otcem dítěte je Simon.
LOCATION:Třebíč
END:VEVENT
END:VCALENDAR