BEGIN:VCALENDAR
VERSION:2.0
CALSCALE:GREGORIAN
PRODID:-//MyApp//Calendar 1.0//EN
BEGIN:VEVENT
METHOD:PUBLISH
UID:60870@regionalniportaly.cz
DTSTAMP:20260421T151348Z
DTSTART;VALUE=DATE:20260307
DTEND;VALUE=DATE:20260308
SUMMARY:Velryba Lízinka
DESCRIPTION:Chcete se dozvědět něco o českých řekách a živočiších pod vodou?\nPohádka o zatoulané malé velrybě v českých řekách. Malá cestovatelka se potkává se sladkovodními rybkami. Hledá kamaráda\, ale v podvodním světě se jí to nedaří. Ani s lidmi to však nemá jednoduché\, až potká malého rybáře Tomáše a stanou se z nich kamarádi. Tomáš Lízinku před chamtivými lidmi ochrání a je­jich kamarádství se ještě upevní. Pohádka je provázena milými písničkami od Marka Ebena.
LOCATION:Třebíč
END:VEVENT
END:VCALENDAR