BEGIN:VCALENDAR
VERSION:2.0
CALSCALE:GREGORIAN
PRODID:-//MyApp//Calendar 1.0//EN
BEGIN:VEVENT
METHOD:PUBLISH
UID:6110@regionalniportaly.cz
DTSTAMP:20260422T013245Z
DTSTART;VALUE=DATE:20160322
DTEND;VALUE=DATE:20160323
SUMMARY:Dílničky pro děti
DESCRIPTION:
LOCATION:Jaroměřice nad Rokytnou
END:VEVENT
END:VCALENDAR