BEGIN:VCALENDAR
VERSION:2.0
CALSCALE:GREGORIAN
PRODID:-//MyApp//Calendar 1.0//EN
BEGIN:VEVENT
METHOD:PUBLISH
UID:61490@regionalniportaly.cz
DTSTAMP:20260421T164544Z
DTSTART;VALUE=DATE:20251228
DTEND;VALUE=DATE:20251229
SUMMARY:Třebíčské vánoční kufrování 2025
DESCRIPTION:Zveme vás na tradiční vánoční akci pro širokou veřejnost i orientační běžce\, přijďte se prostě proběhnout či projít podle orienťácké mapy.\nPrezentace\, start a cíl: kdykoliv od 11. – 15. hodin\, pevný startovní čas není určen\, na místě start postupně dle příchodu v intervalech. Na prezentaci vydání mapy a razící průkazky\, start a cíl pro orientační běžce na krabičku\, pro veřejnost ruční zapsání času. Poslední start v 15. hodin.\nStartovné: 60\,– Kč za 1 mapu\nCentrum: Hospůdka Kančí Borek\, Klimentova 225/17 v Třebíči. Možnost se převléci\, přezout\, toaleta k dispozici. Po doběhu lze zakoupit občerstvení (teplý čaj\, grog\, svařák\, pivo\, limo\, něco k zakousnutí).\nKategorie: \nOPEN-L delší\, náročnější\, po ulicích i lesoparkem (pro registrované závodníky uvítáme přihlášky přes ORIS s uvedením čipu a také platbu předem pro rychlejší odbavení na prezentaci)\,\nOPEN-M pro veřejnost\, kratší\, převážně po ulicích.  Každý si může trať zkrátit podle svých schopností a aktuální fyzičky.\nVzdálenosti: Centrum – Start 0 m\, Cíl – centrum 0 m. Cesta na mapový start po pěšině bude značena fáborky (cca 100m). Parkování v okolí dle možností\, například u VZP\, ulice Na Potoce\, u autobusového nádraží ulice V. Nezvala (v neděli zdarma)\, u koupaliště Polanka.\nNezajíždějte k hospůdce (úzké uličky\, místa obsazena místními obyvateli domů).\nhttps://mapy.com/s/nuhehalube\nTerén:\nrůznorodý\, les/ městský lesopark\, městská zástavba\, ve východní části lesoparku svah do Libušina údolí\nMapa:\nTřebíč - Západ 1:4000\, E=2\,5\, stav červen 2021\nZpůsob ražení:\nmanuální na kleštičky do průkazky\nOrienťáci s vlastním čipem razí pouze start a cíl na SI-krabičku kvůli záznamu času.\nv terénu lampiony a kleštičky\n \nOchrana osobních údajů a fotografování (GDPR): Přihlášením se na tento závod každý účastník souhlasí se zveřejněním svých osobních údajů v rozsahu povinného formátu ČSOS a to v podobě přihlášky a výsledků na webu závodů\, v informačním systému ORIS\, v pokynech pro účastníky a na shromaždišti. V průběhu akce budou pořizovány zpravodajské fotografie sloužící k informování veřejnosti o proběhlém závodě\, vyúčtování dotací na akci atd v souladu s §89 zákona č. 89/2012 Sb.\, Občanského zákoníku. Dále zde mohou být pořizovány fotografie k osobní potřebě závodníků\, potřebě sponzorů a podobně. V případě\, že nesouhlasíte s fotografováním\, oznamte to explicitně fotografovi.\nKaždý závodí na vlastní nebezpečí.
LOCATION:Třebíč
END:VEVENT
END:VCALENDAR